BEGIN:VCALENDAR
VERSION:2.0
PRODID:-//FV Mainburg e.V. - ECPv6.15.17//NONSGML v1.0//EN
CALSCALE:GREGORIAN
METHOD:PUBLISH
X-ORIGINAL-URL:https://fv-mainburg.de
X-WR-CALDESC:Veranstaltungen für FV Mainburg e.V.
REFRESH-INTERVAL;VALUE=DURATION:PT1H
X-Robots-Tag:noindex
X-PUBLISHED-TTL:PT1H
BEGIN:VTIMEZONE
TZID:Europe/Helsinki
BEGIN:DAYLIGHT
TZOFFSETFROM:+0200
TZOFFSETTO:+0300
TZNAME:EEST
DTSTART:20250330T010000
END:DAYLIGHT
BEGIN:STANDARD
TZOFFSETFROM:+0300
TZOFFSETTO:+0200
TZNAME:EET
DTSTART:20251026T010000
END:STANDARD
BEGIN:DAYLIGHT
TZOFFSETFROM:+0200
TZOFFSETTO:+0300
TZNAME:EEST
DTSTART:20260329T010000
END:DAYLIGHT
BEGIN:STANDARD
TZOFFSETFROM:+0300
TZOFFSETTO:+0200
TZNAME:EET
DTSTART:20261025T010000
END:STANDARD
BEGIN:DAYLIGHT
TZOFFSETFROM:+0200
TZOFFSETTO:+0300
TZNAME:EEST
DTSTART:20270328T010000
END:DAYLIGHT
BEGIN:STANDARD
TZOFFSETFROM:+0300
TZOFFSETTO:+0200
TZNAME:EET
DTSTART:20271031T010000
END:STANDARD
END:VTIMEZONE
BEGIN:VEVENT
DTSTART;VALUE=DATE:20260301
DTEND;VALUE=DATE:20260316
DTSTAMP:20260424T172345
CREATED:20260308T114743Z
LAST-MODIFIED:20260308T114743Z
UID:1652-1772323200-1773619199@fv-mainburg.de
SUMMARY:Gewässersperre Abens
DESCRIPTION:Die komplette Abens ist bis einschließlich 15.03.2026 für jegliche Fischerei aufgrund von Besatzmaßnahmen gesperrt.
URL:https://fv-mainburg.de/event/gewaessersperre-abens/
LOCATION:Abens alle Gewässerabschnitte
CATEGORIES:Gewässersperre
END:VEVENT
BEGIN:VEVENT
DTSTART;TZID=Europe/Helsinki:20260306T190000
DTEND;TZID=Europe/Helsinki:20260306T210000
DTSTAMP:20260424T172345
CREATED:20260303T204944Z
LAST-MODIFIED:20260303T204944Z
UID:1640-1772823600-1772830800@fv-mainburg.de
SUMMARY:Monatsversammlung März 2026
DESCRIPTION:Die Monatsversammlung findet beim Roy (Vereinsheim FC Mainburg) statt.\nFangbücher für 2026 können noch eingetauscht werden.\nAnprobe und Bestellung der Jugend T-Shirts\nEs wird über die vergangenen und geplanten Aktionen 2026 berichtet.
URL:https://fv-mainburg.de/event/monatsversammlung-maerz-2026/
LOCATION:Restaurant Roy (Vereinsheim FC Mainburg)\, Ebrantshauser Str. 71\, Mainburg\, 84048
CATEGORIES:Vereinsveranstaltungen allgemein
END:VEVENT
BEGIN:VEVENT
DTSTART;TZID=Europe/Helsinki:20260321T080000
DTEND;TZID=Europe/Helsinki:20260321T080000
DTSTAMP:20260424T172345
CREATED:20260306T182123Z
LAST-MODIFIED:20260306T182940Z
UID:1643-1774080000-1774080000@fv-mainburg.de
SUMMARY:Arbeitsdienst März 2026
DESCRIPTION:Ausmähen und Baumfällarbeiten\nAnmeldung bei Felix Schwab über die Whatsapp Gruppe
URL:https://fv-mainburg.de/event/arbeitsdienst-maerz-2026/
LOCATION:Lutzenburger Weiher
CATEGORIES:Arbeitsdienste
END:VEVENT
BEGIN:VEVENT
DTSTART;TZID=Europe/Helsinki:20260327T190000
DTEND;TZID=Europe/Helsinki:20260327T190000
DTSTAMP:20260424T172345
CREATED:20260306T183727Z
LAST-MODIFIED:20260306T183803Z
UID:1650-1774638000-1774638000@fv-mainburg.de
SUMMARY:Gesellschaftsabend März 2026
DESCRIPTION:Gemütliches Beisammensein im Gerätehaus
URL:https://fv-mainburg.de/event/gesellschaftsabend-maerz-2026/
LOCATION:Gerätehaus\, Lindkirchen\, Lindenstraße 8\, Lindkirchen\, 84048\, Germany
CATEGORIES:Vereinsveranstaltungen allgemein
END:VEVENT
END:VCALENDAR