BEGIN:VCALENDAR
VERSION:2.0
PRODID:-//FV Mainburg e.V. - ECPv6.15.17//NONSGML v1.0//EN
CALSCALE:GREGORIAN
METHOD:PUBLISH
X-WR-CALNAME:FV Mainburg e.V.
X-ORIGINAL-URL:https://fv-mainburg.de
X-WR-CALDESC:Veranstaltungen für FV Mainburg e.V.
REFRESH-INTERVAL;VALUE=DURATION:PT1H
X-Robots-Tag:noindex
X-PUBLISHED-TTL:PT1H
BEGIN:VTIMEZONE
TZID:Europe/Helsinki
BEGIN:DAYLIGHT
TZOFFSETFROM:+0200
TZOFFSETTO:+0300
TZNAME:EEST
DTSTART:20250330T010000
END:DAYLIGHT
BEGIN:STANDARD
TZOFFSETFROM:+0300
TZOFFSETTO:+0200
TZNAME:EET
DTSTART:20251026T010000
END:STANDARD
BEGIN:DAYLIGHT
TZOFFSETFROM:+0200
TZOFFSETTO:+0300
TZNAME:EEST
DTSTART:20260329T010000
END:DAYLIGHT
BEGIN:STANDARD
TZOFFSETFROM:+0300
TZOFFSETTO:+0200
TZNAME:EET
DTSTART:20261025T010000
END:STANDARD
BEGIN:DAYLIGHT
TZOFFSETFROM:+0200
TZOFFSETTO:+0300
TZNAME:EEST
DTSTART:20270328T010000
END:DAYLIGHT
BEGIN:STANDARD
TZOFFSETFROM:+0300
TZOFFSETTO:+0200
TZNAME:EET
DTSTART:20271031T010000
END:STANDARD
END:VTIMEZONE
BEGIN:VEVENT
DTSTART;TZID=Europe/Helsinki:20260201T140000
DTEND;TZID=Europe/Helsinki:20260201T170000
DTSTAMP:20260424T184759
CREATED:20251228T111139Z
LAST-MODIFIED:20251228T111139Z
UID:1629-1769954400-1769965200@fv-mainburg.de
SUMMARY:Jahreshauptversammlung mit Neuwahlen
DESCRIPTION:Am 01.02.2026 findet die Jahreshauptversammlung mit Neuwahlen und Ausgabe der neuen Fangbücher/Jahreserlaubnisscheine statt.
URL:https://fv-mainburg.de/event/jahreshauptversammlung-mit-neuwahlen/
LOCATION:Gasthaus Kreitmair\, Notzenhausen
END:VEVENT
END:VCALENDAR