BEGIN:VCALENDAR
VERSION:2.0
PRODID:-//FV Mainburg e.V. - ECPv6.15.17//NONSGML v1.0//EN
CALSCALE:GREGORIAN
METHOD:PUBLISH
X-WR-CALNAME:FV Mainburg e.V.
X-ORIGINAL-URL:https://fv-mainburg.de
X-WR-CALDESC:Veranstaltungen für FV Mainburg e.V.
REFRESH-INTERVAL;VALUE=DURATION:PT1H
X-Robots-Tag:noindex
X-PUBLISHED-TTL:PT1H
BEGIN:VTIMEZONE
TZID:Europe/Helsinki
BEGIN:DAYLIGHT
TZOFFSETFROM:+0200
TZOFFSETTO:+0300
TZNAME:EEST
DTSTART:20250330T010000
END:DAYLIGHT
BEGIN:STANDARD
TZOFFSETFROM:+0300
TZOFFSETTO:+0200
TZNAME:EET
DTSTART:20251026T010000
END:STANDARD
BEGIN:DAYLIGHT
TZOFFSETFROM:+0200
TZOFFSETTO:+0300
TZNAME:EEST
DTSTART:20260329T010000
END:DAYLIGHT
BEGIN:STANDARD
TZOFFSETFROM:+0300
TZOFFSETTO:+0200
TZNAME:EET
DTSTART:20261025T010000
END:STANDARD
BEGIN:DAYLIGHT
TZOFFSETFROM:+0200
TZOFFSETTO:+0300
TZNAME:EEST
DTSTART:20270328T010000
END:DAYLIGHT
BEGIN:STANDARD
TZOFFSETFROM:+0300
TZOFFSETTO:+0200
TZNAME:EET
DTSTART:20271031T010000
END:STANDARD
END:VTIMEZONE
BEGIN:VEVENT
DTSTART;TZID=Europe/Helsinki:20260403T103000
DTEND;TZID=Europe/Helsinki:20260403T130000
DTSTAMP:20260424T172037
CREATED:20260308T115015Z
LAST-MODIFIED:20260325T201507Z
UID:1655-1775212200-1775221200@fv-mainburg.de
SUMMARY:Karfreitag Fischverkauf
DESCRIPTION:Am Gerätehaus in Lindkirchen.\nSteckerfische (Makrelen und Forellen)\nButterforellen\ngeräucherte Forellen \nBei schönem Wetter Verzehr vor Ort möglich.
URL:https://fv-mainburg.de/event/karfreitag-fischverkauf-2/
LOCATION:Gerätehaus\, Lindkirchen\, Lindenstraße 8\, Lindkirchen\, 84048\, Germany
CATEGORIES:Vereinsveranstaltungen allgemein
ATTACH;FMTTYPE=image/jpeg:https://fv-mainburg.de/wp-content/uploads/2026/03/Karfreitag_Fischverkauf_2026.jpeg
END:VEVENT
END:VCALENDAR