BEGIN:VCALENDAR
VERSION:2.0
PRODID:-//FV Mainburg e.V. - ECPv6.15.17//NONSGML v1.0//EN
CALSCALE:GREGORIAN
METHOD:PUBLISH
X-WR-CALNAME:FV Mainburg e.V.
X-ORIGINAL-URL:https://fv-mainburg.de
X-WR-CALDESC:Veranstaltungen für FV Mainburg e.V.
REFRESH-INTERVAL;VALUE=DURATION:PT1H
X-Robots-Tag:noindex
X-PUBLISHED-TTL:PT1H
BEGIN:VTIMEZONE
TZID:Europe/Helsinki
BEGIN:DAYLIGHT
TZOFFSETFROM:+0200
TZOFFSETTO:+0300
TZNAME:EEST
DTSTART:20250330T010000
END:DAYLIGHT
BEGIN:STANDARD
TZOFFSETFROM:+0300
TZOFFSETTO:+0200
TZNAME:EET
DTSTART:20251026T010000
END:STANDARD
BEGIN:DAYLIGHT
TZOFFSETFROM:+0200
TZOFFSETTO:+0300
TZNAME:EEST
DTSTART:20260329T010000
END:DAYLIGHT
BEGIN:STANDARD
TZOFFSETFROM:+0300
TZOFFSETTO:+0200
TZNAME:EET
DTSTART:20261025T010000
END:STANDARD
BEGIN:DAYLIGHT
TZOFFSETFROM:+0200
TZOFFSETTO:+0300
TZNAME:EEST
DTSTART:20270328T010000
END:DAYLIGHT
BEGIN:STANDARD
TZOFFSETFROM:+0300
TZOFFSETTO:+0200
TZNAME:EET
DTSTART:20271031T010000
END:STANDARD
END:VTIMEZONE
BEGIN:VEVENT
DTSTART;VALUE=DATE:20260301
DTEND;VALUE=DATE:20260316
DTSTAMP:20260424T185435
CREATED:20260308T114743Z
LAST-MODIFIED:20260308T114743Z
UID:1652-1772323200-1773619199@fv-mainburg.de
SUMMARY:Gewässersperre Abens
DESCRIPTION:Die komplette Abens ist bis einschließlich 15.03.2026 für jegliche Fischerei aufgrund von Besatzmaßnahmen gesperrt.
URL:https://fv-mainburg.de/event/gewaessersperre-abens/
LOCATION:Abens alle Gewässerabschnitte
CATEGORIES:Gewässersperre
END:VEVENT
END:VCALENDAR