BEGIN:VCALENDAR
VERSION:2.0
PRODID:-//FV Mainburg e.V. - ECPv6.15.17//NONSGML v1.0//EN
CALSCALE:GREGORIAN
METHOD:PUBLISH
X-ORIGINAL-URL:https://fv-mainburg.de
X-WR-CALDESC:Veranstaltungen für FV Mainburg e.V.
REFRESH-INTERVAL;VALUE=DURATION:PT1H
X-Robots-Tag:noindex
X-PUBLISHED-TTL:PT1H
BEGIN:VTIMEZONE
TZID:Europe/Helsinki
BEGIN:DAYLIGHT
TZOFFSETFROM:+0200
TZOFFSETTO:+0300
TZNAME:EEST
DTSTART:20240331T010000
END:DAYLIGHT
BEGIN:STANDARD
TZOFFSETFROM:+0300
TZOFFSETTO:+0200
TZNAME:EET
DTSTART:20241027T010000
END:STANDARD
BEGIN:DAYLIGHT
TZOFFSETFROM:+0200
TZOFFSETTO:+0300
TZNAME:EEST
DTSTART:20250330T010000
END:DAYLIGHT
BEGIN:STANDARD
TZOFFSETFROM:+0300
TZOFFSETTO:+0200
TZNAME:EET
DTSTART:20251026T010000
END:STANDARD
BEGIN:DAYLIGHT
TZOFFSETFROM:+0200
TZOFFSETTO:+0300
TZNAME:EEST
DTSTART:20260329T010000
END:DAYLIGHT
BEGIN:STANDARD
TZOFFSETFROM:+0300
TZOFFSETTO:+0200
TZNAME:EET
DTSTART:20261025T010000
END:STANDARD
END:VTIMEZONE
BEGIN:VEVENT
DTSTART;TZID=Europe/Helsinki:20251128T180000
DTEND;TZID=Europe/Helsinki:20251128T180000
DTSTAMP:20260425T001606
CREATED:20250130T215155Z
LAST-MODIFIED:20250130T215828Z
UID:1554-1764352800-1764352800@fv-mainburg.de
SUMMARY:Weihnachtsfeier
DESCRIPTION:
URL:https://fv-mainburg.de/event/weihnachtsfeier/
LOCATION:Gasthaus Kreitmair\, Notzenhausen
CATEGORIES:Jugendarbeit,Vereinsveranstaltungen allgemein
END:VEVENT
END:VCALENDAR