BEGIN:VCALENDAR
VERSION:2.0
PRODID:-//FV Mainburg e.V. - ECPv6.15.17//NONSGML v1.0//EN
CALSCALE:GREGORIAN
METHOD:PUBLISH
X-WR-CALNAME:FV Mainburg e.V.
X-ORIGINAL-URL:https://fv-mainburg.de
X-WR-CALDESC:Veranstaltungen für FV Mainburg e.V.
REFRESH-INTERVAL;VALUE=DURATION:PT1H
X-Robots-Tag:noindex
X-PUBLISHED-TTL:PT1H
BEGIN:VTIMEZONE
TZID:Europe/Helsinki
BEGIN:DAYLIGHT
TZOFFSETFROM:+0200
TZOFFSETTO:+0300
TZNAME:EEST
DTSTART:20240331T010000
END:DAYLIGHT
BEGIN:STANDARD
TZOFFSETFROM:+0300
TZOFFSETTO:+0200
TZNAME:EET
DTSTART:20241027T010000
END:STANDARD
BEGIN:DAYLIGHT
TZOFFSETFROM:+0200
TZOFFSETTO:+0300
TZNAME:EEST
DTSTART:20250330T010000
END:DAYLIGHT
BEGIN:STANDARD
TZOFFSETFROM:+0300
TZOFFSETTO:+0200
TZNAME:EET
DTSTART:20251026T010000
END:STANDARD
BEGIN:DAYLIGHT
TZOFFSETFROM:+0200
TZOFFSETTO:+0300
TZNAME:EEST
DTSTART:20260329T010000
END:DAYLIGHT
BEGIN:STANDARD
TZOFFSETFROM:+0300
TZOFFSETTO:+0200
TZNAME:EET
DTSTART:20261025T010000
END:STANDARD
END:VTIMEZONE
BEGIN:VEVENT
DTSTART;VALUE=DATE:20251024
DTEND;VALUE=DATE:20251109
DTSTAMP:20260425T001357
CREATED:20251021T163310Z
LAST-MODIFIED:20251021T163310Z
UID:1618-1761264000-1762646399@fv-mainburg.de
SUMMARY:Gewässersperre Mainburger Weiher
DESCRIPTION:Der Mainburger Weiher ist vom 24.10.2025 bis einschließlich 08.11.2025 aufgrund von Besatzmaßnahmen gesperrt.\nDie anderen Weiher und Gewässer sind von dieser Sperre nicht betroffen.
URL:https://fv-mainburg.de/event/gewaessersperre-mainburger-weiher/
LOCATION:Mainburger Weiher
CATEGORIES:Gewässersperre
END:VEVENT
BEGIN:VEVENT
DTSTART;TZID=Europe/Helsinki:20251108T070000
DTEND;TZID=Europe/Helsinki:20251108T120000
DTSTAMP:20260425T001357
CREATED:20251021T163749Z
LAST-MODIFIED:20251021T163749Z
UID:1623-1762585200-1762603200@fv-mainburg.de
SUMMARY:Jugendfischen
DESCRIPTION:Am Samstag\, den 08.11.2025 findet am Mainburger Weiher ein Jugendfischen statt.\nEs gelten folgende Bestimmungen:\nAnmeldung von Jugendlichen und Begleitpersonen bei der Jugendleitung bis 05.11.2025\, 12:00 Uhr\nBeginn Fischen 08.11.2025\, 07:00 Uhr\nEnde Fischen 08.11.2025\, 12:00 Uhr\nFangbeschränkungen gemäß Fangbuch\, erlaubt sind zwei Angeln.\nFischen nur für Jugendliche\, nicht für Papas\, Mamas oder sonstige Begleiter.\nDanach wieder Gewässersperre und offizielle Freigabe des Gewässers für alle ab Sonntag\, den 09.11.2025
URL:https://fv-mainburg.de/event/jugendfischen/
LOCATION:Mainburger Weiher
CATEGORIES:Jugendarbeit
END:VEVENT
END:VCALENDAR